Workbook

Sheet Resources
C1: Aspirations Online Resources list
C2: A teacher-curated bank of high quality, age-appropriate online PD resources for students—from wellbeing support to skills development to careers inspiration
C5: This resource list has been put together by East Learning, with inputs from our partner schools. We run the Aspirations programme, which helps schools collect data on their students' interests, needs and ambitions and easily convert that into tailored careers, wellbeing, extra-curricular and PSHE programmes that fit. You can find out more on our website, eastlearning.co.uk. If you'd like to know more—or if you have suggestions for resources to add to this list—please get in touch on support@eastlearning.co.uk
C7: Filter by….
C8: Age | D8: Any | F8: Resource Type | G8: Any | I8: Topic | J8: Any
C9: Cost | D9: Any | F9: Development Area | G9: Any
C11: Name | D11: Publisher | E11: Description | H11: Age groups | I11: Resource Type | J11: Development Area | K11: Topic
A12: 1 | C12: =IFERROR(HYPERLINK(INDEX(Data!D$3:D$172,MATCH($A12,Data!$A$3:$A$172,0)),INDEX(Data!C$3:C$172,MATCH($A12,Data!$A$3:$A$172,0))),"") -> 10 Alternative Science Careers | D12: {=IFERROR(INDEX(Data!B$3:B$172,MATCH($A12,Data!$A$3:$A$172,0)),"")} -> Graduate Prospects Ltd | E12: =IFERROR(INDEX(Data!E$3:E$172,MATCH($A12,Data!$A$3:$A$172,0)),"Help us improve! If you couldn't find what you're looking for, please send us an email on Support@eastlearning.co.uk and let us know what we're missing.") -> List of some science careers outside of scientific research and healthcare, such as Communication and Outreach, Patent law, Scientific Publishing, and more. | H12: {=IFERROR(INDEX(Data!G$3:G$172,MATCH($A12,Data!$A$3:$A$172,0)),"")} -> KS4; KS5 | I12: {=IFERROR(INDEX(Data!F$3:F$172,MATCH($A12,Data!$A$3:$A$172,0)),"")} -> Article; Search Tool | J12: =IFERROR(INDEX(Data!H$3:H$172,MATCH($A12,Data!$A$3:$A$172,0)),"") -> Career Option | K12: =IFERROR(INDEX(Data!I$3:I$172,MATCH($A12,Data!$A$3:$A$172,0)),"") -> Science and pharmaceuticals
A13: 2 | C13: =IFERROR(HYPERLINK(INDEX(Data!D$3:D$172,MATCH($A13,Data!$A$3:$A$172,0)),INDEX(Data!C$3:C$172,MATCH($A13,Data!$A$3:$A$172,0))),"") -> 11 Practical Ways to Stop Procrastination | D13: {=IFERROR(INDEX(Data!B$3:B$172,MATCH($A13,Data!$A$3:$A$172,0)),"")} -> Lifehack | E13: {=IFERROR(INDEX(Data!E$3:E$172,MATCH($A13,Data!$A$3:$A$172,0)),"")} -> Article suggesting some methods for stopping procrastination, for people who find it hard to start - or stick at - important activities | H13: {=IFERROR(INDEX(Data!G$3:G$172,MATCH($A13,Data!$A$3:$A$172,0)),"")} -> KS4; KS5 | I13: {=IFERROR(INDEX(Data!F$3:F$172,MATCH($A13,Data!$A$3:$A$172,0)),"")} -> Article | J13: =IFERROR(INDEX(Data!H$3:H$172,MATCH($A13,Data!$A$3:$A$172,0)),"") -> Characteristic; Skill | K13: =IFERROR(INDEX(Data!I$3:I$172,MATCH($A13,Data!$A$3:$A$172,0)),"") -> Academic; Organisation; Self-development
A14: 3 | C14: =IFERROR(HYPERLINK(INDEX(Data!D$3:D$172,MATCH($A14,Data!$A$3:$A$172,0)),INDEX(Data!C$3:C$172,MATCH($A14,Data!$A$3:$A$172,0))),"") -> Animal Care Careers | D14: {=IFERROR(INDEX(Data!B$3:B$172,MATCH($A14,Data!$A$3:$A$172,0)),"")} -> National Careers Service | E14: {=IFERROR(INDEX(Data!E$3:E$172,MATCH($A14,Data!$A$3:$A$172,0)),"")} -> Learn about the different career options in Animal Care, and how to get into them | H14: {=IFERROR(INDEX(Data!G$3:G$172,MATCH($A14,Data!$A$3:$A$172,0)),"")} -> KS3; KS4; KS5 | I14: {=IFERROR(INDEX(Data!F$3:F$172,MATCH($A14,Data!$A$3:$A$172,0)),"")} -> Article; Search Tool | J14: =IFERROR(INDEX(Data!H$3:H$172,MATCH($A14,Data!$A$3:$A$172,0)),"") -> Career Option | K14: =IFERROR(INDEX(Data!I$3:I$172,MATCH($A14,Data!$A$3:$A$172,0)),"") -> Animal Care
A15: 4 | C15: =IFERROR(HYPERLINK(INDEX(Data!D$3:D$172,MATCH($A15,Data!$A$3:$A$172,0)),INDEX(Data!C$3:C$172,MATCH($A15,Data!$A$3:$A$172,0))),"") -> Anna Freud - On My Mind | D15: {=IFERROR(INDEX(Data!B$3:B$172,MATCH($A15,Data!$A$3:$A$172,0)),"")} -> Anna Freud Centre | E15: {=IFERROR(INDEX(Data!E$3:E$172,MATCH($A15,Data!$A$3:$A$172,0)),"")} -> On My Mind is co-produced by young people to help other young people through a list of services which offer wellbeing support or urgent help. It also offers information about helping others with mental and emotional health and wellbeing, strategies for self-care, and more. | H15: {=IFERROR(INDEX(Data!G$3:G$172,MATCH($A15,Data!$A$3:$A$172,0)),"")} -> KS2; KS3; KS4; KS5 | I15: {=IFERROR(INDEX(Data!F$3:F$172,MATCH($A15,Data!$A$3:$A$172,0)),"")} -> Article; Search Tool | J15: =IFERROR(INDEX(Data!H$3:H$172,MATCH($A15,Data!$A$3:$A$172,0)),"") -> Characteristic; Knowledge; Wellbeing | K15: =IFERROR(INDEX(Data!I$3:I$172,MATCH($A15,Data!$A$3:$A$172,0)),"") -> Calmness; Kindness and compassion; Mental and emotional wellbeing; Patience; Self-awareness; Staying safe; Rest; Someone to talk to
A16: 5 | C16: =IFERROR(HYPERLINK(INDEX(Data!D$3:D$172,MATCH($A16,Data!$A$3:$A$172,0)),INDEX(Data!C$3:C$172,MATCH($A16,Data!$A$3:$A$172,0))),"") -> AsapScience: 3 Top Study Lifehacks | D16: {=IFERROR(INDEX(Data!B$3:B$172,MATCH($A16,Data!$A$3:$A$172,0)),"")} -> AsapScience | E16: {=IFERROR(INDEX(Data!E$3:E$172,MATCH($A16,Data!$A$3:$A$172,0)),"")} -> Video explaining 3 great lifehacks to help you study more effectively | H16: {=IFERROR(INDEX(Data!G$3:G$172,MATCH($A16,Data!$A$3:$A$172,0)),"")} -> KS4; KS5 | I16: {=IFERROR(INDEX(Data!F$3:F$172,MATCH($A16,Data!$A$3:$A$172,0)),"")} -> Video | J16: =IFERROR(INDEX(Data!H$3:H$172,MATCH($A16,Data!$A$3:$A$172,0)),"") -> Skill | K16: =IFERROR(INDEX(Data!I$3:I$172,MATCH($A16,Data!$A$3:$A$172,0)),"") -> Academic; Self-development
A17: 6 | C17: =IFERROR(HYPERLINK(INDEX(Data!D$3:D$172,MATCH($A17,Data!$A$3:$A$172,0)),INDEX(Data!C$3:C$172,MATCH($A17,Data!$A$3:$A$172,0))),"") -> AsapScience: Getting Better Sleep | D17: {=IFERROR(INDEX(Data!B$3:B$172,MATCH($A17,Data!$A$3:$A$172,0)),"")} -> AsapScience | E17: {=IFERROR(INDEX(Data!E$3:E$172,MATCH($A17,Data!$A$3:$A$172,0)),"")} -> Video explaining what you should do before bed to increase your chances of falling asleep more quickly, and getting better quality of sleep | H17: {=IFERROR(INDEX(Data!G$3:G$172,MATCH($A17,Data!$A$3:$A$172,0)),"")} -> KS3; KS4; KS5 | I17: {=IFERROR(INDEX(Data!F$3:F$172,MATCH($A17,Data!$A$3:$A$172,0)),"")} -> Video | J17: =IFERROR(INDEX(Data!H$3:H$172,MATCH($A17,Data!$A$3:$A$172,0)),"") -> Wellbeing | K17: =IFERROR(INDEX(Data!I$3:I$172,MATCH($A17,Data!$A$3:$A$172,0)),"") -> Staying healthy: Lifestyle, diet, and assessing risks; Rest
A18: 7 | C18: =IFERROR(HYPERLINK(INDEX(Data!D$3:D$172,MATCH($A18,Data!$A$3:$A$172,0)),INDEX(Data!C$3:C$172,MATCH($A18,Data!$A$3:$A$172,0))),"") -> Barclays Life Skills - Personal Finances | D18: {=IFERROR(INDEX(Data!B$3:B$172,MATCH($A18,Data!$A$3:$A$172,0)),"")} -> Barclays PLC | E18: {=IFERROR(INDEX(Data!E$3:E$172,MATCH($A18,Data!$A$3:$A$172,0)),"")} -> A collection of advice on managing your finances, including how to save effectively, understanding common finance terms, payslips explained, and avoiding online fraud | H18: {=IFERROR(INDEX(Data!G$3:G$172,MATCH($A18,Data!$A$3:$A$172,0)),"")} -> KS4; KS5 | I18: {=IFERROR(INDEX(Data!F$3:F$172,MATCH($A18,Data!$A$3:$A$172,0)),"")} -> Lots!; Article; Game/Quiz; Other | J18: =IFERROR(INDEX(Data!H$3:H$172,MATCH($A18,Data!$A$3:$A$172,0)),"") -> Skill | K18: =IFERROR(INDEX(Data!I$3:I$172,MATCH($A18,Data!$A$3:$A$172,0)),"") -> Managing your finances
A19: 8 | C19: =IFERROR(HYPERLINK(INDEX(Data!D$3:D$172,MATCH($A19,Data!$A$3:$A$172,0)),INDEX(Data!C$3:C$172,MATCH($A19,Data!$A$3:$A$172,0))),"") -> BBC - David Attenborough Documentaries | D19: {=IFERROR(INDEX(Data!B$3:B$172,MATCH($A19,Data!$A$3:$A$172,0)),"")} -> BBC | E19: {=IFERROR(INDEX(Data!E$3:E$172,MATCH($A19,Data!$A$3:$A$172,0)),"")} -> Documentaries about nature, from plants and animals to oceans and mountains. TV license needed. | H19: {=IFERROR(INDEX(Data!G$3:G$172,MATCH($A19,Data!$A$3:$A$172,0)),"")} -> KS3; KS4; KS5 | I19: {=IFERROR(INDEX(Data!F$3:F$172,MATCH($A19,Data!$A$3:$A$172,0)),"")} -> Video | J19: =IFERROR(INDEX(Data!H$3:H$172,MATCH($A19,Data!$A$3:$A$172,0)),"") -> Knowledge | K19: =IFERROR(INDEX(Data!I$3:I$172,MATCH($A19,Data!$A$3:$A$172,0)),"") -> The Environment
A20: 9 | C20: =IFERROR(HYPERLINK(INDEX(Data!D$3:D$172,MATCH($A20,Data!$A$3:$A$172,0)),INDEX(Data!C$3:C$172,MATCH($A20,Data!$A$3:$A$172,0))),"") -> BBC Bitesize - Becoming a Pharmacist | D20: {=IFERROR(INDEX(Data!B$3:B$172,MATCH($A20,Data!$A$3:$A$172,0)),"")} -> BBC | E20: {=IFERROR(INDEX(Data!E$3:E$172,MATCH($A20,Data!$A$3:$A$172,0)),"")} -> Video and article about becoming a pharmacist, covering role, lifestyle, training, salary, and more | H20: {=IFERROR(INDEX(Data!G$3:G$172,MATCH($A20,Data!$A$3:$A$172,0)),"")} -> KS3; KS4; KS5 | I20: {=IFERROR(INDEX(Data!F$3:F$172,MATCH($A20,Data!$A$3:$A$172,0)),"")} -> Article; Video | J20: =IFERROR(INDEX(Data!H$3:H$172,MATCH($A20,Data!$A$3:$A$172,0)),"") -> Career Option | K20: =IFERROR(INDEX(Data!I$3:I$172,MATCH($A20,Data!$A$3:$A$172,0)),"") -> Healthcare
A21: 10 | C21: =IFERROR(HYPERLINK(INDEX(Data!D$3:D$172,MATCH($A21,Data!$A$3:$A$172,0)),INDEX(Data!C$3:C$172,MATCH($A21,Data!$A$3:$A$172,0))),"") -> MIT - Scratch | D21: {=IFERROR(INDEX(Data!B$3:B$172,MATCH($A21,Data!$A$3:$A$172,0)),"")} -> MIT | E21: {=IFERROR(INDEX(Data!E$3:E$172,MATCH($A21,Data!$A$3:$A$172,0)),"")} -> Scratch is an easy-to-use tool for creating animations and games, which will teach you to program at the same time! | H21: {=IFERROR(INDEX(Data!G$3:G$172,MATCH($A21,Data!$A$3:$A$172,0)),"")} -> KS2; KS3; KS4; KS5 | I21: {=IFERROR(INDEX(Data!F$3:F$172,MATCH($A21,Data!$A$3:$A$172,0)),"")} -> Game/Quiz; Other | J21: =IFERROR(INDEX(Data!H$3:H$172,MATCH($A21,Data!$A$3:$A$172,0)),"") -> Career option | K21: =IFERROR(INDEX(Data!I$3:I$172,MATCH($A21,Data!$A$3:$A$172,0)),"") -> Creativity; Computing and Technology
A22: 11 | C22: =IFERROR(HYPERLINK(INDEX(Data!D$3:D$172,MATCH($A22,Data!$A$3:$A$172,0)),INDEX(Data!C$3:C$172,MATCH($A22,Data!$A$3:$A$172,0))),"") -> Be Healthy - Peer Support | D22: {=IFERROR(INDEX(Data!B$3:B$172,MATCH($A22,Data!$A$3:$A$172,0)),"")} -> Association for Young People's Health | E22: {=IFERROR(INDEX(Data!E$3:E$172,MATCH($A22,Data!$A$3:$A$172,0)),"")} -> Free advice on how to best support your friends when they need it - or ask for support from your friend when you need it | H22: {=IFERROR(INDEX(Data!G$3:G$172,MATCH($A22,Data!$A$3:$A$172,0)),"")} -> KS4; KS5 | I22: {=IFERROR(INDEX(Data!F$3:F$172,MATCH($A22,Data!$A$3:$A$172,0)),"")} -> Article; Other | J22: =IFERROR(INDEX(Data!H$3:H$172,MATCH($A22,Data!$A$3:$A$172,0)),"") -> Skill; Wellbeing | K22: =IFERROR(INDEX(Data!I$3:I$172,MATCH($A22,Data!$A$3:$A$172,0)),"") -> Mental and emotional wellbeing; Communication; Self-Esteem; Someone to talk to
A23: 12 | C23: =IFERROR(HYPERLINK(INDEX(Data!D$3:D$172,MATCH($A23,Data!$A$3:$A$172,0)),INDEX(Data!C$3:C$172,MATCH($A23,Data!$A$3:$A$172,0))),"") -> Becoming a dentist | D23: {=IFERROR(INDEX(Data!B$3:B$172,MATCH($A23,Data!$A$3:$A$172,0)),"")} -> GTI Media | E23: {=IFERROR(INDEX(Data!E$3:E$172,MATCH($A23,Data!$A$3:$A$172,0)),"")} -> Article explaining the entry requirements for dentistry courses, what dentistry degrees involve, and the career options available to dentistry graduates. | H23: {=IFERROR(INDEX(Data!G$3:G$172,MATCH($A23,Data!$A$3:$A$172,0)),"")} -> KS4; KS5 | I23: {=IFERROR(INDEX(Data!F$3:F$172,MATCH($A23,Data!$A$3:$A$172,0)),"")} -> Article; Search Tool | J23: =IFERROR(INDEX(Data!H$3:H$172,MATCH($A23,Data!$A$3:$A$172,0)),"") -> Career Option | K23: =IFERROR(INDEX(Data!I$3:I$172,MATCH($A23,Data!$A$3:$A$172,0)),"") -> Healthcare
A24: 13 | C24: =IFERROR(HYPERLINK(INDEX(Data!D$3:D$172,MATCH($A24,Data!$A$3:$A$172,0)),INDEX(Data!C$3:C$172,MATCH($A24,Data!$A$3:$A$172,0))),"") -> Becoming a doctor | D24: {=IFERROR(INDEX(Data!B$3:B$172,MATCH($A24,Data!$A$3:$A$172,0)),"")} -> GTI Media | E24: {=IFERROR(INDEX(Data!E$3:E$172,MATCH($A24,Data!$A$3:$A$172,0)),"")} -> Article explaining the different types of doctors, the steps needed to become a doctor, and the different paths you could take into medicine. | H24: {=IFERROR(INDEX(Data!G$3:G$172,MATCH($A24,Data!$A$3:$A$172,0)),"")} -> KS4; KS5 | I24: {=IFERROR(INDEX(Data!F$3:F$172,MATCH($A24,Data!$A$3:$A$172,0)),"")} -> Article; Search Tool | J24: =IFERROR(INDEX(Data!H$3:H$172,MATCH($A24,Data!$A$3:$A$172,0)),"") -> Career Option | K24: =IFERROR(INDEX(Data!I$3:I$172,MATCH($A24,Data!$A$3:$A$172,0)),"") -> Healthcare
... A211: 200 | C211: =IFERROR(HYPERLINK(INDEX(Data!D$3:D$172,MATCH($A211,Data!$A$3:$A$172,0)),INDEX(Data!C$3:C$172,MATCH($A211,Data!$A$3:$A$172,0))),"") | D211: {=IFERROR(INDEX(Data!B$3:B$172,MATCH($A211,Data!$A$3:$A$172,0)),"")} | E211: {=IFERROR(INDEX(Data!E$3:E$172,MATCH($A211,Data!$A$3:$A$172,0)),"")} | H211: {=IFERROR(INDEX(Data!G$3:G$172,MATCH($A211,Data!$A$3:$A$172,0)),"")} | I211: {=IFERROR(INDEX(Data!F$3:F$172,MATCH($A211,Data!$A$3:$A$172,0)),"")} | J211: =IFERROR(INDEX(Data!H$3:H$172,MATCH($A211,Data!$A$3:$A$172,0)),"") | K211: =IFERROR(INDEX(Data!I$3:I$172,MATCH($A211,Data!$A$3:$A$172,0)),"")

Sheet Data
B2: Publisher | C2: Name | D2: URL | E2: Description | F2: Type | G2: Key Stages (Suitable For) | H2: Development Area | I2: Topic | J2: Cost | K2: KS Filter | L2: Cost Filter | M2: Type Filter | N2: Development Area Filter | O2: Topic Filter | P2: include?
A3: =IF(P3="0",0,1) -> 1 | B3: Graduate Prospects Ltd | C3: 10 Alternative Science Careers | D3: https://www.prospects.ac.uk/jobs-and-work-experience/job-sectors/science-and-pharmaceuticals/10-alternative-science-careers | E3: List of some science careers outside of scientific research and healthcare, such as Communication and Outreach, Patent law, Scientific Publishing, and more. | F3: Article; Search Tool | G3: KS4; KS5 | H3: Career Option | I3: Science and pharmaceuticals | J3: Free! | K3: =IF(Resources!$D$8="Any",1,IF(Resources!$D$8="",1,IF(ISERROR(SEARCH(Resources!$D$8,$G3)),"0",1))) -> 1 | L3: =IF(Resources!$D$9="Any",1,IF(Resources!$D$9="",1,IF($J3=Resources!$D$9,1,"0"))) -> 1 | M3: =IF(Resources!$G$8="Any",1,IF(Resources!$G$8="",1,IF(ISERROR(SEARCH(Resources!$G$8,$H3)),"0",1))) -> 1 | N3: =IF(Resources!$G$9="Any",1,IF(Resources!$G$9="",1,IF(ISERROR(SEARCH(Resources!$G$9,$H3)),"0",1))) -> 1 | O3: =IF(Resources!$G$9="Any",1,IF(Resources!$J$8="",1,IF(ISERROR(SEARCH(Resources!$G$9,INDEX(Validation!$I$2:$I$71,MATCH(Resources!$J$8,Validation!$J$2:$J$71,0)))),1,IF(ISERROR(SEARCH(Resources!$J$8,$I3)),"0",1)))) -> 1 | P3: =IF(AND(K3=1,L3=1,M3=1,N3=1,O3=1),1,"0") -> 1
A4: =IF(P4="0",0,MAX(Data!$A$3:A3)+1) -> 2 | B4: Lifehack | C4: 11 Practical Ways to Stop Procrastination | D4: https://www.lifehack.org/articles/featured/11-practical-ways-to-stop-procrastination.html | E4: Article suggesting some methods for stopping procrastination, for people who find it hard to start - or stick at - important activities | F4: Article | G4: KS4; KS5 | H4: Characteristic; Skill | I4: Academic; Organisation; Self-development | J4: Free! | K4: =IF(Resources!$D$8="Any",1,IF(Resources!$D$8="",1,IF(ISERROR(SEARCH(Resources!$D$8,$G4)),"0",1))) -> 1 | L4: =IF(Resources!$D$9="Any",1,IF(Resources!$D$9="",1,IF($J4=Resources!$D$9,1,"0"))) -> 1 | M4: =IF(Resources!$G$8="Any",1,IF(Resources!$G$8="",1,IF(ISERROR(SEARCH(Resources!$G$8,$H4)),"0",1))) -> 1 | N4: =IF(Resources!$G$9="Any",1,IF(Resources!$G$9="",1,IF(ISERROR(SEARCH(Resources!$G$9,$H4)),"0",1))) -> 1 | O4: =IF(Resources!$G$9="Any",1,IF(Resources!$J$8="",1,IF(ISERROR(SEARCH(Resources!$G$9,INDEX(Validation!$I$2:$I$71,MATCH(Resources!$J$8,Validation!$J$2:$J$71,0)))),1,IF(ISERROR(SEARCH(Resources!$J$8,$I4)),"0",1)))) -> 1 | P4: =IF(AND(K4=1,L4=1,M4=1,N4=1,O4=1),1,"0") -> 1
A5: =IF(P5="0",0,MAX(Data!$A$3:A4)+1) -> 3 | B5: National Careers Service | C5: Animal Care Careers | D5: https://nationalcareers.service.gov.uk/job-categories/animal-care | E5: Learn about the different career options in Animal Care, and how to get into them | F5: Article; Search Tool | G5: KS3; KS4; KS5 | H5: Career Option | I5: Animal Care | J5: Free! | K5: =IF(Resources!$D$8="Any",1,IF(Resources!$D$8="",1,IF(ISERROR(SEARCH(Resources!$D$8,$G5)),"0",1))) -> 1 | L5: =IF(Resources!$D$9="Any",1,IF(Resources!$D$9="",1,IF($J5=Resources!$D$9,1,"0"))) -> 1 | M5: =IF(Resources!$G$8="Any",1,IF(Resources!$G$8="",1,IF(ISERROR(SEARCH(Resources!$G$8,$H5)),"0",1))) -> 1 | N5: =IF(Resources!$G$9="Any",1,IF(Resources!$G$9="",1,IF(ISERROR(SEARCH(Resources!$G$9,$H5)),"0",1))) -> 1 | O5: =IF(Resources!$G$9="Any",1,IF(Resources!$J$8="",1,IF(ISERROR(SEARCH(Resources!$G$9,INDEX(Validation!$I$2:$I$71,MATCH(Resources!$J$8,Validation!$J$2:$J$71,0)))),1,IF(ISERROR(SEARCH(Resources!$J$8,$I5)),"0",1)))) -> 1 | P5: =IF(AND(K5=1,L5=1,M5=1,N5=1,O5=1),1,"0") -> 1
A6: =IF(P6="0",0,MAX(Data!$A$3:A5)+1) -> 4 | B6: Anna Freud Centre | C6: Anna Freud - On My Mind | D6: https://www.annafreud.org/on-my-mind/ | E6: On My Mind is co-produced by young people to help other young people through a list of services which offer wellbeing support or urgent help. It also offers information about helping others with mental and emotional health and wellbeing, strategies for self-care, and more. | F6: Article; Search Tool | G6: KS2; KS3; KS4; KS5 | H6: Characteristic; Knowledge; Wellbeing | I6: Calmness; Kindness and compassion; Mental and emotional wellbeing; Patience; Self-awareness; Staying safe; Rest; Someone to talk to | J6: Free! | K6: =IF(Resources!$D$8="Any",1,IF(Resources!$D$8="",1,IF(ISERROR(SEARCH(Resources!$D$8,$G6)),"0",1))) -> 1 | L6: =IF(Resources!$D$9="Any",1,IF(Resources!$D$9="",1,IF($J6=Resources!$D$9,1,"0"))) -> 1 | M6: =IF(Resources!$G$8="Any",1,IF(Resources!$G$8="",1,IF(ISERROR(SEARCH(Resources!$G$8,$H6)),"0",1))) -> 1 | N6: =IF(Resources!$G$9="Any",1,IF(Resources!$G$9="",1,IF(ISERROR(SEARCH(Resources!$G$9,$H6)),"0",1))) -> 1 | O6: =IF(Resources!$G$9="Any",1,IF(Resources!$J$8="",1,IF(ISERROR(SEARCH(Resources!$G$9,INDEX(Validation!$I$2:$I$71,MATCH(Resources!$J$8,Validation!$J$2:$J$71,0)))),1,IF(ISERROR(SEARCH(Resources!$J$8,$I6)),"0",1)))) -> 1 | P6: =IF(AND(K6=1,L6=1,M6=1,N6=1,O6=1),1,"0") -> 1
A7: =IF(P7="0",0,MAX(Data!$A$3:A6)+1) -> 5 | B7: AsapScience | C7: AsapScience: 3 Top Study Lifehacks | D7: https://www.youtube.com/watch?v=Y_B6VADhY84 | E7: Video explaining 3 great lifehacks to help you study more effectively | F7: Video | G7: KS4; KS5 | H7: Skill | I7: Academic; Self-development | J7: Free! | K7: =IF(Resources!$D$8="Any",1,IF(Resources!$D$8="",1,IF(ISERROR(SEARCH(Resources!$D$8,$G7)),"0",1))) -> 1 | L7: =IF(Resources!$D$9="Any",1,IF(Resources!$D$9="",1,IF($J7=Resources!$D$9,1,"0"))) -> 1 | M7: =IF(Resources!$G$8="Any",1,IF(Resources!$G$8="",1,IF(ISERROR(SEARCH(Resources!$G$8,$H7)),"0",1))) -> 1 | N7: =IF(Resources!$G$9="Any",1,IF(Resources!$G$9="",1,IF(ISERROR(SEARCH(Resources!$G$9,$H7)),"0",1))) -> 1 | O7: =IF(Resources!$G$9="Any",1,IF(Resources!$J$8="",1,IF(ISERROR(SEARCH(Resources!$G$9,INDEX(Validation!$I$2:$I$71,MATCH(Resources!$J$8,Validation!$J$2:$J$71,0)))),1,IF(ISERROR(SEARCH(Resources!$J$8,$I7)),"0",1)))) -> 1 | P7: =IF(AND(K7=1,L7=1,M7=1,N7=1,O7=1),1,"0") -> 1
A8: =IF(P8="0",0,MAX(Data!$A$3:A7)+1) -> 6 | B8: AsapScience | C8: AsapScience: Getting Better Sleep | D8: https://www.youtube.com/watch?v=EiYm20F9WXU | E8: Video explaining what you should do before bed to increase your chances of falling asleep more quickly, and getting better quality of sleep | F8: Video | G8: KS3; KS4; KS5 | H8: Wellbeing | I8: Staying healthy: Lifestyle, diet, and assessing risks; Rest | J8: Free! | K8: =IF(Resources!$D$8="Any",1,IF(Resources!$D$8="",1,IF(ISERROR(SEARCH(Resources!$D$8,$G8)),"0",1))) -> 1 | L8: =IF(Resources!$D$9="Any",1,IF(Resources!$D$9="",1,IF($J8=Resources!$D$9,1,"0"))) -> 1 | M8: =IF(Resources!$G$8="Any",1,IF(Resources!$G$8="",1,IF(ISERROR(SEARCH(Resources!$G$8,$H8)),"0",1))) -> 1 | N8: =IF(Resources!$G$9="Any",1,IF(Resources!$G$9="",1,IF(ISERROR(SEARCH(Resources!$G$9,$H8)),"0",1))) -> 1 | O8: =IF(Resources!$G$9="Any",1,IF(Resources!$J$8="",1,IF(ISERROR(SEARCH(Resources!$G$9,INDEX(Validation!$I$2:$I$71,MATCH(Resources!$J$8,Validation!$J$2:$J$71,0)))),1,IF(ISERROR(SEARCH(Resources!$J$8,$I8)),"0",1)))) -> 1 | P8: =IF(AND(K8=1,L8=1,M8=1,N8=1,O8=1),1,"0") -> 1
A9: =IF(P9="0",0,MAX(Data!$A$3:A8)+1) -> 7 | B9: Barclays PLC | C9: Barclays Life Skills - Personal Finances | D9: https://barclayslifeskills.com/i-want-to-get-to-grips-with-money-and-my-payslip/school | E9: A collection of advice on managing your finances, including how to save effectively, understanding common finance terms, payslips explained, and avoiding online fraud | F9: Lots!; Article; Game/Quiz; Other | G9: KS4; KS5 | H9: Skill | I9: Managing your finances | J9: Free! | K9: =IF(Resources!$D$8="Any",1,IF(Resources!$D$8="",1,IF(ISERROR(SEARCH(Resources!$D$8,$G9)),"0",1))) -> 1 | L9: =IF(Resources!$D$9="Any",1,IF(Resources!$D$9="",1,IF($J9=Resources!$D$9,1,"0"))) -> 1 | M9: =IF(Resources!$G$8="Any",1,IF(Resources!$G$8="",1,IF(ISERROR(SEARCH(Resources!$G$8,$H9)),"0",1))) -> 1 | N9: =IF(Resources!$G$9="Any",1,IF(Resources!$G$9="",1,IF(ISERROR(SEARCH(Resources!$G$9,$H9)),"0",1))) -> 1 | O9: =IF(Resources!$G$9="Any",1,IF(Resources!$J$8="",1,IF(ISERROR(SEARCH(Resources!$G$9,INDEX(Validation!$I$2:$I$71,MATCH(Resources!$J$8,Validation!$J$2:$J$71,0)))),1,IF(ISERROR(SEARCH(Resources!$J$8,$I9)),"0",1)))) -> 1 | P9: =IF(AND(K9=1,L9=1,M9=1,N9=1,O9=1),1,"0") -> 1
A10: =IF(P10="0",0,MAX(Data!$A$3:A9)+1) -> 8 | B10: BBC | C10: BBC - David Attenborough Documentaries | D10: https://www.bbc.co.uk/iplayer/group/p06m42d9 | E10: Documentaries about nature, from plants and animals to oceans and mountains. TV license needed. | F10: Video | G10: KS3; KS4; KS5 | H10: Knowledge | I10: The Environment | J10: Free! | K10: =IF(Resources!$D$8="Any",1,IF(Resources!$D$8="",1,IF(ISERROR(SEARCH(Resources!$D$8,$G10)),"0",1))) -> 1 | L10: =IF(Resources!$D$9="Any",1,IF(Resources!$D$9="",1,IF($J10=Resources!$D$9,1,"0"))) -> 1 | M10: =IF(Resources!$G$8="Any",1,IF(Resources!$G$8="",1,IF(ISERROR(SEARCH(Resources!$G$8,$H10)),"0",1))) -> 1 | N10: =IF(Resources!$G$9="Any",1,IF(Resources!$G$9="",1,IF(ISERROR(SEARCH(Resources!$G$9,$H10)),"0",1))) -> 1 | O10: =IF(Resources!$G$9="Any",1,IF(Resources!$J$8="",1,IF(ISERROR(SEARCH(Resources!$G$9,INDEX(Validation!$I$2:$I$71,MATCH(Resources!$J$8,Validation!$J$2:$J$71,0)))),1,IF(ISERROR(SEARCH(Resources!$J$8,$I10)),"0",1)))) -> 1 | P10: =IF(AND(K10=1,L10=1,M10=1,N10=1,O10=1),1,"0") -> 1
A11: =IF(P11="0",0,MAX(Data!$A$3:A10)+1) -> 9 | B11: BBC | C11: BBC Bitesize - Becoming a Pharmacist | D11: https://www.bbc.co.uk/bitesize/articles/zrcn2sg | E11: Video and article about becoming a pharmacist, covering role, lifestyle, training, salary, and more | F11: Article; Video | G11: KS3; KS4; KS5 | H11: Career Option | I11: Healthcare | J11: Free! | K11: =IF(Resources!$D$8="Any",1,IF(Resources!$D$8="",1,IF(ISERROR(SEARCH(Resources!$D$8,$G11)),"0",1))) -> 1 | L11: =IF(Resources!$D$9="Any",1,IF(Resources!$D$9="",1,IF($J11=Resources!$D$9,1,"0"))) -> 1 | M11: =IF(Resources!$G$8="Any",1,IF(Resources!$G$8="",1,IF(ISERROR(SEARCH(Resources!$G$8,$H11)),"0",1))) -> 1 | N11: =IF(Resources!$G$9="Any",1,IF(Resources!$G$9="",1,IF(ISERROR(SEARCH(Resources!$G$9,$H11)),"0",1))) -> 1 | O11: =IF(Resources!$G$9="Any",1,IF(Resources!$J$8="",1,IF(ISERROR(SEARCH(Resources!$G$9,INDEX(Validation!$I$2:$I$71,MATCH(Resources!$J$8,Validation!$J$2:$J$71,0)))),1,IF(ISERROR(SEARCH(Resources!$J$8,$I11)),"0",1)))) -> 1 | P11: =IF(AND(K11=1,L11=1,M11=1,N11=1,O11=1),1,"0") -> 1
A12: =IF(P12="0",0,MAX(Data!$A$3:A11)+1) -> 10 | B12: MIT | C12: MIT - Scratch | D12: https://scratch.mit.edu/ | E12: Scratch is an easy-to-use tool for creating animations and games, which will teach you to program at the same time! | F12: Game/Quiz; Other | G12: KS2; KS3; KS4; KS5 | H12: Career option | I12: Creativity; Computing and Technology | J12: Free! | K12: =IF(Resources!$D$8="Any",1,IF(Resources!$D$8="",1,IF(ISERROR(SEARCH(Resources!$D$8,$G12)),"0",1))) -> 1 | L12: =IF(Resources!$D$9="Any",1,IF(Resources!$D$9="",1,IF($J12=Resources!$D$9,1,"0"))) -> 1 | M12: =IF(Resources!$G$8="Any",1,IF(Resources!$G$8="",1,IF(ISERROR(SEARCH(Resources!$G$8,$H12)),"0",1))) -> 1 | N12: =IF(Resources!$G$9="Any",1,IF(Resources!$G$9="",1,IF(ISERROR(SEARCH(Resources!$G$9,$H12)),"0",1))) -> 1 | O12: =IF(Resources!$G$9="Any",1,IF(Resources!$J$8="",1,IF(ISERROR(SEARCH(Resources!$G$9,INDEX(Validation!$I$2:$I$71,MATCH(Resources!$J$8,Validation!$J$2:$J$71,0)))),1,IF(ISERROR(SEARCH(Resources!$J$8,$I12)),"0",1)))) -> 1 | P12: =IF(AND(K12=1,L12=1,M12=1,N12=1,O12=1),1,"0") -> 1
A13: =IF(P13="0",0,MAX(Data!$A$3:A12)+1) -> 11 | B13: Association for Young People's Health | C13: Be Healthy - Peer Support | D13: http://behealthy-peersupport.org.uk/#choice | E13: Free advice on how to best support your friends when they need it - or ask for support from your friend when you need it | F13: Article; Other | G13: KS4; KS5 | H13: Skill; Wellbeing | I13: Mental and emotional wellbeing; Communication; Self-Esteem; Someone to talk to | J13: Free! | K13: =IF(Resources!$D$8="Any",1,IF(Resources!$D$8="",1,IF(ISERROR(SEARCH(Resources!$D$8,$G13)),"0",1))) -> 1 | L13: =IF(Resources!$D$9="Any",1,IF(Resources!$D$9="",1,IF($J13=Resources!$D$9,1,"0"))) -> 1 | M13: =IF(Resources!$G$8="Any",1,IF(Resources!$G$8="",1,IF(ISERROR(SEARCH(Resources!$G$8,$H13)),"0",1))) -> 1 | N13: =IF(Resources!$G$9="Any",1,IF(Resources!$G$9="",1,IF(ISERROR(SEARCH(Resources!$G$9,$H13)),"0",1))) -> 1 | O13: =IF(Resources!$G$9="Any",1,IF(Resources!$J$8="",1,IF(ISERROR(SEARCH(Resources!$G$9,INDEX(Validation!$I$2:$I$71,MATCH(Resources!$J$8,Validation!$J$2:$J$71,0)))),1,IF(ISERROR(SEARCH(Resources!$J$8,$I13)),"0",1)))) -> 1 | P13: =IF(AND(K13=1,L13=1,M13=1,N13=1,O13=1),1,"0") -> 1
A14: =IF(P14="0",0,MAX(Data!$A$3:A13)+1) -> 12 | B14: GTI Media | C14: Becoming a dentist | D14: https://targetcareers.co.uk/career-sectors/healthcare-and-veterinary-medicine/1014257-how-to-become-a-dentist-and-your-job-options | E14: Article explaining the entry requirements for dentistry courses, what dentistry degrees involve, and the career options available to dentistry graduates. | F14: Article; Search Tool | G14: KS4; KS5 | H14: Career Option | I14: Healthcare | J14: Free! | K14: =IF(Resources!$D$8="Any",1,IF(Resources!$D$8="",1,IF(ISERROR(SEARCH(Resources!$D$8,$G14)),"0",1))) -> 1 | L14: =IF(Resources!$D$9="Any",1,IF(Resources!$D$9="",1,IF($J14=Resources!$D$9,1,"0"))) -> 1 | M14: =IF(Resources!$G$8="Any",1,IF(Resources!$G$8="",1,IF(ISERROR(SEARCH(Resources!$G$8,$H14)),"0",1))) -> 1 | N14: =IF(Resources!$G$9="Any",1,IF(Resources!$G$9="",1,IF(ISERROR(SEARCH(Resources!$G$9,$H14)),"0",1))) -> 1 | O14: =IF(Resources!$G$9="Any",1,IF(Resources!$J$8="",1,IF(ISERROR(SEARCH(Resources!$G$9,INDEX(Validation!$I$2:$I$71,MATCH(Resources!$J$8,Validation!$J$2:$J$71,0)))),1,IF(ISERROR(SEARCH(Resources!$J$8,$I14)),"0",1)))) -> 1 | P14: =IF(AND(K14=1,L14=1,M14=1,N14=1,O14=1),1,"0") -> 1
A15: =IF(P15="0",0,MAX(Data!$A$3:A14)+1) -> 13 | B15: GTI Media | C15: Becoming a doctor | D15: https://targetcareers.co.uk/career-sectors/healthcare-and-veterinary-medicine/1014231-medical-careers-guide-becoming-a-doctor-in-the-uk | E15: Article explaining the different types of doctors, the steps needed to become a doctor, and the different paths you could take into medicine. | F15: Article; Search Tool | G15: KS4; KS5 | H15: Career Option | I15: Healthcare | J15: Free! | K15: =IF(Resources!$D$8="Any",1,IF(Resources!$D$8="",1,IF(ISERROR(SEARCH(Resources!$D$8,$G15)),"0",1))) -> 1 | L15: =IF(Resources!$D$9="Any",1,IF(Resources!$D$9="",1,IF($J15=Resources!$D$9,1,"0"))) -> 1 | M15: =IF(Resources!$G$8="Any",1,IF(Resources!$G$8="",1,IF(ISERROR(SEARCH(Resources!$G$8,$H15)),"0",1))) -> 1 | N15: =IF(Resources!$G$9="Any",1,IF(Resources!$G$9="",1,IF(ISERROR(SEARCH(Resources!$G$9,$H15)),"0",1))) -> 1 | O15: =IF(Resources!$G$9="Any",1,IF(Resources!$J$8="",1,IF(ISERROR(SEARCH(Resources!$G$9,INDEX(Validation!$I$2:$I$71,MATCH(Resources!$J$8,Validation!$J$2:$J$71,0)))),1,IF(ISERROR(SEARCH(Resources!$J$8,$I15)),"0",1)))) -> 1 | P15: =IF(AND(K15=1,L15=1,M15=1,N15=1,O15=1),1,"0") -> 1
... A43: =IF(P43="0",0,MAX(Data!$A$3:A42)+1) -> 41 | B43: Anna Freud Centre | C43: Exercise for Wellbeing | D43: https://www.annafreud.org/on-my-mind/self-care/physical-exercise/ | E43: Exercise doesn't just benefit your physical health. This article, written by young people for young people, explains how exercise can be beneficial to your mental and emotional wellbeing as well. | F43: Article; Video | G43: KS2; KS3; KS4; KS5 | H43: Knowledge; Skill | I43: Mental and emotional wellbeing; Staying healthy: Lifestyle, diet, and assessing risks; Sports and fitness | J43: Free! | K43: =IF(Resources!$D$8="Any",1,IF(Resources!$D$8="",1,IF(ISERROR(SEARCH(Resources!$D$8,$G43)),"0",1))) -> 1 | L43: =IF(Resources!$D$9="Any",1,IF(Resources!$D$9="",1,IF($J43=Resources!$D$9,1,"0"))) -> 1 | M43: =IF(Resources!$G$8="Any",1,IF(Resources!$G$8="",1,IF(ISERROR(SEARCH(Resources!$G$8,$H43)),"0",1))) -> 1 | N43: =IF(Resources!$G$9="Any",1,IF(Resources!$G$9="",1,IF(ISERROR(SEARCH(Resources!$G$9,$H43)),"0",1))) -> 1 | O43: =IF(Resources!$G$9="Any",1,IF(Resources!$J$8="",1,IF(ISERROR(SEARCH(Resources!$G$9,INDEX(Validation!$I$2:$I$71,MATCH(Resources!$J$8,Validation!$J$2:$J$71,0)))),1,IF(ISERROR(SEARCH(Resources!$J$8,$I43)),"0",1)))) -> 1 | P43: =IF(AND(K43=1,L43=1,M43=1,N43=1,O43=1),1,"0") -> 1
A44: =IF(P44="0",0,MAX(Data!$A$3:A43)+1) -> 42 | C44: Generation Lockdown | D44: https://generationlockdown.co.uk/ | E44: A writing competition in which writers aged 7-17 share stories of life in lockdown. These are then judged by a published author, with the best entries being published in a book! | F44: Game/Quiz; Other | G44: KS3; KS4; KS5 | H44: Skill; Characteristic | I44: Self-development; Creativity; Comprehension; Communication; Ambition; | J44: Free! | K44: =IF(Resources!$D$8="Any",1,IF(Resources!$D$8="",1,IF(ISERROR(SEARCH(Resources!$D$8,$G44)),"0",1))) -> 1 | L44: =IF(Resources!$D$9="Any",1,IF(Resources!$D$9="",1,IF($J44=Resources!$D$9,1,"0"))) -> 1 | M44: =IF(Resources!$G$8="Any",1,IF(Resources!$G$8="",1,IF(ISERROR(SEARCH(Resources!$G$8,$H44)),"0",1))) -> 1 | N44: =IF(Resources!$G$9="Any",1,IF(Resources!$G$9="",1,IF(ISERROR(SEARCH(Resources!$G$9,$H44)),"0",1))) -> 1 | O44: =IF(Resources!$G$9="Any",1,IF(Resources!$J$8="",1,IF(ISERROR(SEARCH(Resources!$G$9,INDEX(Validation!$I$2:$I$71,MATCH(Resources!$J$8,Validation!$J$2:$J$71,0)))),1,IF(ISERROR(SEARCH(Resources!$J$8,$I44)),"0",1)))) -> 1 | P44: =IF(AND(K44=1,L44=1,M44=1,N44=1,O44=1),1,"0") -> 1
A45: =IF(P45="0",0,MAX(Data!$A$3:A44)+1) -> 43 | B45: Anna Freud Centre | C45: Goal Setting | D45: https://www.annafreud.org/on-my-mind/self-care/goal-setting/ | E45: This article, written by young people for young people, explains how goal setting goals each day can help you feel happier and more organised. | F45: Article; Video | G45: KS2; KS3; KS4; KS5 | H45: Skill; Characteristic | I45: Mental and emotional wellbeing; Self-development; Organisation; Ambition; Persistence | J45: Free! | K45: =IF(Resources!$D$8="Any",1,IF(Resources!$D$8="",1,IF(ISERROR(SEARCH(Resources!$D$8,$G45)),"0",1))) -> 1 | L45: =IF(Resources!$D$9="Any",1,IF(Resources!$D$9="",1,IF($J45=Resources!$D$9,1,"0"))) -> 1 | M45: =IF(Resources!$G$8="Any",1,IF(Resources!$G$8="",1,IF(ISERROR(SEARCH(Resources!$G$8,$H45)),"0",1))) -> 1 | N45: =IF(Resources!$G$9="Any",1,IF(Resources!$G$9="",1,IF(ISERROR(SEARCH(Resources!$G$9,$H45)),"0",1))) -> 1 | O45: =IF(Resources!$G$9="Any",1,IF(Resources!$J$8="",1,IF(ISERROR(SEARCH(Resources!$G$9,INDEX(Validation!$I$2:$I$71,MATCH(Resources!$J$8,Validation!$J$2:$J$71,0)))),1,IF(ISERROR(SEARCH(Resources!$J$8,$I45)),"0",1)))) -> 1 | P45: =IF(AND(K45=1,L45=1,M45=1,N45=1,O45=1),1,"0") -> 1
A46: =IF(P46="0",0,MAX(Data!$A$3:A45)+1) -> 44 | B46: Youth Employment UK CIC | C46: Hair and Beauty Jobs | D46: https://www.youthemployment.org.uk/careers-hub-sector/hair-and-beauty/ | E46: Webpage for exploring the different roles available in Hair and Beauty. | F46: Lots! | G46: KS4; KS5 | H46: Career Option | I46: Hair and beauty | J46: Free! | K46: =IF(Resources!$D$8="Any",1,IF(Resources!$D$8="",1,IF(ISERROR(SEARCH(Resources!$D$8,$G46)),"0",1))) -> 1 | L46: =IF(Resources!$D$9="Any",1,IF(Resources!$D$9="",1,IF($J46=Resources!$D$9,1,"0"))) -> 1 | M46: =IF(Resources!$G$8="Any",1,IF(Resources!$G$8="",1,IF(ISERROR(SEARCH(Resources!$G$8,$H46)),"0",1))) -> 1 | N46: =IF(Resources!$G$9="Any",1,IF(Resources!$G$9="",1,IF(ISERROR(SEARCH(Resources!$G$9,$H46)),"0",1))) -> 1 | O46: =IF(Resources!$G$9="Any",1,IF(Resources!$J$8="",1,IF(ISERROR(SEARCH(Resources!$G$9,INDEX(Validation!$I$2:$I$71,MATCH(Resources!$J$8,Validation!$J$2:$J$71,0)))),1,IF(ISERROR(SEARCH(Resources!$J$8,$I46)),"0",1)))) -> 1 | P46: =IF(AND(K46=1,L46=1,M46=1,N46=1,O46=1),1,"0") -> 1
A47: =IF(P47="0",0,MAX(Data!$A$3:A46)+1) -> 45 | B47: Graduate Prospects Ltd | C47: Hospitality and Event Management Jobs | D47: https://www.prospects.ac.uk/jobs-and-work-experience/job-sectors/hospitality-and-events-management/hospitality-jobs | E47: Descriptions of some of the different careers you might start in Hospitality and Event Management, such as: Catering Manager, Chef, Event Manager, Exhibition Designer, and more. | F47: Article; Search Tool | G47: KS4; KS5 | H47: Career Option | I47: Hospitality, catering and events management | J47: Free! | K47: =IF(Resources!$D$8="Any",1,IF(Resources!$D$8="",1,IF(ISERROR(SEARCH(Resources!$D$8,$G47)),"0",1))) -> 1 | L47: =IF(Resources!$D$9="Any",1,IF(Resources!$D$9="",1,IF($J47=Resources!$D$9,1,"0"))) -> 1 | M47: =IF(Resources!$G$8="Any",1,IF(Resources!$G$8="",1,IF(ISERROR(SEARCH(Resources!$G$8,$H47)),"0",1))) -> 1 | N47: =IF(Resources!$G$9="Any",1,IF(Resources!$G$9="",1,IF(ISERROR(SEARCH(Resources!$G$9,$H47)),"0",1))) -> 1 | O47: =IF(Resources!$G$9="Any",1,IF(Resources!$J$8="",1,IF(ISERROR(SEARCH(Resources!$G$9,INDEX(Validation!$I$2:$I$71,MATCH(Resources!$J$8,Validation!$J$2:$J$71,0)))),1,IF(ISERROR(SEARCH(Resources!$J$8,$I47)),"0",1)))) -> 1 | P47: =IF(AND(K47=1,L47=1,M47=1,N47=1,O47=1),1,"0") -> 1
A48: =IF(P48="0",0,MAX(Data!$A$3:A47)+1) -> 46 | B48: GTI Media | C48: How do I become a Scientist? | D48: https://targetcareers.co.uk/career-sectors/science/156-how-to-become-a-scientist-careers-in-science | E48: Article about how to start a career in science: which A levels to take, apprenticeship schemes, and university options. | F48: Article; Search Tool | G48: KS4; KS5 | H48: Career Option | I48: Science and pharmaceuticals | J48: Free! | K48: =IF(Resources!$D$8="Any",1,IF(Resources!$D$8="",1,IF(ISERROR(SEARCH(Resources!$D$8,$G48)),"0",1))) -> 1 | L48: =IF(Resources!$D$9="Any",1,IF(Resources!$D$9="",1,IF($J48=Resources!$D$9,1,"0"))) -> 1 | M48: =IF(Resources!$G$8="Any",1,IF(Resources!$G$8="",1,IF(ISERROR(SEARCH(Resources!$G$8,$H48)),"0",1))) -> 1 | N48: =IF(Resources!$G$9="Any",1,IF(Resources!$G$9="",1,IF(ISERROR(SEARCH(Resources!$G$9,$H48)),"0",1))) -> 1 | O48: =IF(Resources!$G$9="Any",1,IF(Resources!$J$8="",1,IF(ISERROR(SEARCH(Resources!$G$9,INDEX(Validation!$I$2:$I$71,MATCH(Resources!$J$8,Validation!$J$2:$J$71,0)))),1,IF(ISERROR(SEARCH(Resources!$J$8,$I48)),"0",1)))) -> 1 | P48: =IF(AND(K48=1,L48=1,M48=1,N48=1,O48=1),1,"0") -> 1
A49: =IF(P49="0",0,MAX(Data!$A$3:A48)+1) -> 47 | B49: GTI Media | C49: How do I get into charity work? | D49: https://targetcareers.co.uk/career-sectors/public-sector-and-charity/140-how-do-i-get-into-charity-work | E49: Article about how to start a career in charity work, from setting up work experience and making applications to building and using a network. | F49: Article; Search Tool | G49: KS4; KS5 | H49: Career Option | I49: Charity and voluntary work | J49: Free! | K49: =IF(Resources!$D$8="Any",1,IF(Resources!$D$8="",1,IF(ISERROR(SEARCH(Resources!$D$8,$G49)),"0",1))) -> 1 | L49: =IF(Resources!$D$9="Any",1,IF(Resources!$D$9="",1,IF($J49=Resources!$D$9,1,"0"))) -> 1 | M49: =IF(Resources!$G$8="Any",1,IF(Resources!$G$8="",1,IF(ISERROR(SEARCH(Resources!$G$8,$H49)),"0",1))) -> 1 | N49: =IF(Resources!$G$9="Any",1,IF(Resources!$G$9="",1,IF(ISERROR(SEARCH(Resources!$G$9,$H49)),"0",1))) -> 1 | O49: =IF(Resources!$G$9="Any",1,IF(Resources!$J$8="",1,IF(ISERROR(SEARCH(Resources!$G$9,INDEX(Validation!$I$2:$I$71,MATCH(Resources!$J$8,Validation!$J$2:$J$71,0)))),1,IF(ISERROR(SEARCH(Resources!$J$8,$I49)),"0",1)))) -> 1 | P49: =IF(AND(K49=1,L49=1,M49=1,N49=1,O49=1),1,"0") -> 1
A50: =IF(P50="0",0,MAX(Data!$A$3:A49)+1) -> 48 | B50: GTI Media | C50: How do I get into Teaching? | D50: https://targetcareers.co.uk/career-sectors/teaching-and-education/160-how-do-i-get-into-teaching-and-education | E50: Article outlining the steps you need to take in order to start a career as a teacher, from what to study at university to teacher training. | F50: Article; Search Tool | G50: KS4; KS5 | H50: Career Option | I50: Teaching and education | J50: Free! | K50: =IF(Resources!$D$8="Any",1,IF(Resources!$D$8="",1,IF(ISERROR(SEARCH(Resources!$D$8,$G50)),"0",1))) -> 1 | L50: =IF(Resources!$D$9="Any",1,IF(Resources!$D$9="",1,IF($J50=Resources!$D$9,1,"0"))) -> 1 | M50: =IF(Resources!$G$8="Any",1,IF(Resources!$G$8="",1,IF(ISERROR(SEARCH(Resources!$G$8,$H50)),"0",1))) -> 1 | N50: =IF(Resources!$G$9="Any",1,IF(Resources!$G$9="",1,IF(ISERROR(SEARCH(Resources!$G$9,$H50)),"0",1))) -> 1 | O50: =IF(Resources!$G$9="Any",1,IF(Resources!$J$8="",1,IF(ISERROR(SEARCH(Resources!$G$9,INDEX(Validation!$I$2:$I$71,MATCH(Resources!$J$8,Validation!$J$2:$J$71,0)))),1,IF(ISERROR(SEARCH(Resources!$J$8,$I50)),"0",1)))) -> 1 | P50: =IF(AND(K50=1,L50=1,M50=1,N50=1,O50=1),1,"0") -> 1
A51: =IF(P51="0",0,MAX(Data!$A$3:A50)+1) -> 49 | B51: Graduate Prospects Ltd | C51: How to ask employers for work experience | D51: https://www.prospects.ac.uk/jobs-and-work-experience/work-experience-and-internships/how-to-ask-employers-for-work-experience | E51: Not all work experience opportunities are advertised. This article outlines how to approach an employer and ask for work experience, from contacting an employer to tailoring your CV. | F51: Article | G51: KS4; KS5 | H51: Characteristic; Post-school destination; Skill | I51: Work Experience; Ambition; Assertiveness; Persistence; Respectfulness and manners; Get A Job; Resilience; Communication | J51: Free! | K51: =IF(Resources!$D$8="Any",1,IF(Resources!$D$8="",1,IF(ISERROR(SEARCH(Resources!$D$8,$G51)),"0",1))) -> 1 | L51: =IF(Resources!$D$9="Any",1,IF(Resources!$D$9="",1,IF($J51=Resources!$D$9,1,"0"))) -> 1 | M51: =IF(Resources!$G$8="Any",1,IF(Resources!$G$8="",1,IF(ISERROR(SEARCH(Resources!$G$8,$H51)),"0",1))) -> 1 | N51: =IF(Resources!$G$9="Any",1,IF(Resources!$G$9="",1,IF(ISERROR(SEARCH(Resources!$G$9,$H51)),"0",1))) -> 1 | O51: =IF(Resources!$G$9="Any",1,IF(Resources!$J$8="",1,IF(ISERROR(SEARCH(Resources!$G$9,INDEX(Validation!$I$2:$I$71,MATCH(Resources!$J$8,Validation!$J$2:$J$71,0)))),1,IF(ISERROR(SEARCH(Resources!$J$8,$I51)),"0",1)))) -> 1 | P51: =IF(AND(K51=1,L51=1,M51=1,N51=1,O51=1),1,"0") -> 1
A52: =IF(P52="0",0,MAX(Data!$A$3:A51)+1) -> 50 | B52: School of Life | C52: How to be an Entrepreneur | D52: https://www.youtube.com/watch?v=lJjILQu2xM8 | E52: Video suggesting a good starting point for thinking about business ideas | F52: Video | G52: KS3; KS4; KS5 | H52: Career Option | I52: Start a Company | J52: Free! | K52: =IF(Resources!$D$8="Any",1,IF(Resources!$D$8="",1,IF(ISERROR(SEARCH(Resources!$D$8,$G52)),"0",1))) -> 1 | L52: =IF(Resources!$D$9="Any",1,IF(Resources!$D$9="",1,IF($J52=Resources!$D$9,1,"0"))) -> 1 | M52: =IF(Resources!$G$8="Any",1,IF(Resources!$G$8="",1,IF(ISERROR(SEARCH(Resources!$G$8,$H52)),"0",1))) -> 1 | N52: =IF(Resources!$G$9="Any",1,IF(Resources!$G$9="",1,IF(ISERROR(SEARCH(Resources!$G$9,$H52)),"0",1))) -> 1 | O52: =IF(Resources!$G$9="Any",1,IF(Resources!$J$8="",1,IF(ISERROR(SEARCH(Resources!$G$9,INDEX(Validation!$I$2:$I$71,MATCH(Resources!$J$8,Validation!$J$2:$J$71,0)))),1,IF(ISERROR(SEARCH(Resources!$J$8,$I52)),"0",1)))) -> 1 | P52: =IF(AND(K52=1,L52=1,M52=1,N52=1,O52=1),1,"0") -> 1
A53: =IF(P53="0",0,MAX(Data!$A$3:A52)+1) -> 51 | B53: Graduate Prospects Ltd | C53: How to become a Counsellor | D53: https://www.prospects.ac.uk/job-profiles/counsellor | E53: Article describing the role of a counsellor, as well as their responsibilities, salary and working hours. | F53: Article; Search Tool | G53: KS4; KS5 | H53: Career Option | I53: Social work and counselling | J53: Free! | K53: =IF(Resources!$D$8="Any",1,IF(Resources!$D$8="",1,IF(ISERROR(SEARCH(Resources!$D$8,$G53)),"0",1))) -> 1 | L53: =IF(Resources!$D$9="Any",1,IF(Resources!$D$9="",1,IF($J53=Resources!$D$9,1,"0"))) -> 1 | M53: =IF(Resources!$G$8="Any",1,IF(Resources!$G$8="",1,IF(ISERROR(SEARCH(Resources!$G$8,$H53)),"0",1))) -> 1 | N53: =IF(Resources!$G$9="Any",1,IF(Resources!$G$9="",1,IF(ISERROR(SEARCH(Resources!$G$9,$H53)),"0",1))) -> 1 | O53: =IF(Resources!$G$9="Any",1,IF(Resources!$J$8="",1,IF(ISERROR(SEARCH(Resources!$G$9,INDEX(Validation!$I$2:$I$71,MATCH(Resources!$J$8,Validation!$J$2:$J$71,0)))),1,IF(ISERROR(SEARCH(Resources!$J$8,$I53)),"0",1)))) -> 1 | P53: =IF(AND(K53=1,L53=1,M53=1,N53=1,O53=1),1,"0") -> 1
A54: =IF(P54="0",0,MAX(Data!$A$3:A53)+1) -> 52 | B54: National Careers Service | C54: How to become a Firefighter | D54: https://nationalcareers.service.gov.uk/job-profiles/firefighter | E54: Article about becoming a firefighter: how to become one, what the role involves, and the career path you can expect. | F54: Article | G54: KS4; KS5 | H54: Career Option | I54: Police, military, security and rescue services | J54: Free! | K54: =IF(Resources!$D$8="Any",1,IF(Resources!$D$8="",1,IF(ISERROR(SEARCH(Resources!$D$8,$G54)),"0",1))) -> 1 | L54: =IF(Resources!$D$9="Any",1,IF(Resources!$D$9="",1,IF($J54=Resources!$D$9,1,"0"))) -> 1 | M54: =IF(Resources!$G$8="Any",1,IF(Resources!$G$8="",1,IF(ISERROR(SEARCH(Resources!$G$8,$H54)),"0",1))) -> 1 | N54: =IF(Resources!$G$9="Any",1,IF(Resources!$G$9="",1,IF(ISERROR(SEARCH(Resources!$G$9,$H54)),"0",1))) -> 1 | O54: =IF(Resources!$G$9="Any",1,IF(Resources!$J$8="",1,IF(ISERROR(SEARCH(Resources!$G$9,INDEX(Validation!$I$2:$I$71,MATCH(Resources!$J$8,Validation!$J$2:$J$71,0)))),1,IF(ISERROR(SEARCH(Resources!$J$8,$I54)),"0",1)))) -> 1 | P54: =IF(AND(K54=1,L54=1,M54=1,N54=1,O54=1),1,"0") -> 1
A55: =IF(P55="0",0,MAX(Data!$A$3:A54)+1) -> 53 | B55: Graduate Prospects Ltd | C55: How to become a Lawyer | D55: https://www.prospects.ac.uk/jobs-and-work-experience/job-sectors/law-sector/how-to-become-a-lawyer | E55: Article outlining the qualifications needed to become a lawyer, and the different types of careers you might take in Law Practice. | F55: Article; Search Tool | G55: KS4; KS5 | H55: Career Option | I55: Law practice | J55: Free! | K55: =IF(Resources!$D$8="Any",1,IF(Resources!$D$8="",1,IF(ISERROR(SEARCH(Resources!$D$8,$G55)),"0",1))) -> 1 | L55: =IF(Resources!$D$9="Any",1,IF(Resources!$D$9="",1,IF($J55=Resources!$D$9,1,"0"))) -> 1 | M55: =IF(Resources!$G$8="Any",1,IF(Resources!$G$8="",1,IF(ISERROR(SEARCH(Resources!$G$8,$H55)),"0",1))) -> 1 | N55: =IF(Resources!$G$9="Any",1,IF(Resources!$G$9="",1,IF(ISERROR(SEARCH(Resources!$G$9,$H55)),"0",1))) -> 1 | O55: =IF(Resources!$G$9="Any",1,IF(Resources!$J$8="",1,IF(ISERROR(SEARCH(Resources!$G$9,INDEX(Validation!$I$2:$I$71,MATCH(Resources!$J$8,Validation!$J$2:$J$71,0)))),1,IF(ISERROR(SEARCH(Resources!$J$8,$I55)),"0",1)))) -> 1 | P55: =IF(AND(K55=1,L55=1,M55=1,N55=1,O55=1),1,"0") -> 1
A56: =IF(P56="0",0,MAX(Data!$A$3:A55)+1) -> 54 | B56: National Careers Service | C56: How to become a Paramedic | D56: https://nationalcareers.service.gov.uk/job-profiles/paramedic | E56: Article about becoming a firefighter: how to become one, what the role involves, and the career path you can expect. | F56: Article | G56: KS4; KS5 | H56: Career Option | I56: Police, military, security and rescue services | J56: Free! | K56: =IF(Resources!$D$8="Any",1,IF(Resources!$D$8="",1,IF(ISERROR(SEARCH(Resources!$D$8,$G56)),"0",1))) -> 1 | L56: =IF(Resources!$D$9="Any",1,IF(Resources!$D$9="",1,IF($J56=Resources!$D$9,1,"0"))) -> 1 | M56: =IF(Resources!$G$8="Any",1,IF(Resources!$G$8="",1,IF(ISERROR(SEARCH(Resources!$G$8,$H56)),"0",1))) -> 1 | N56: =IF(Resources!$G$9="Any",1,IF(Resources!$G$9="",1,IF(ISERROR(SEARCH(Resources!$G$9,$H56)),"0",1))) -> 1 | O56: =IF(Resources!$G$9="Any",1,IF(Resources!$J$8="",1,IF(ISERROR(SEARCH(Resources!$G$9,INDEX(Validation!$I$2:$I$71,MATCH(Resources!$J$8,Validation!$J$2:$J$71,0)))),1,IF(ISERROR(SEARCH(Resources!$J$8,$I56)),"0",1)))) -> 1 | P56: =IF(AND(K56=1,L56=1,M56=1,N56=1,O56=1),1,"0") -> 1
... A72: =IF(P72="0",0,MAX(Data!$A$3:A71)+1) -> 70 | B72: Totaljobs | C72: Milkround - entry level jobs | D72: https://www.milkround.com/jobs/entry-level | E72: Search tool to help you find jobs, either in a specific place or anywhere in the country, which you don't need further education to apply for. | F72: Search Tool | G72: KS4; KS5 | H72: Post-school destination | I72: Get A Job; No idea! | J72: Free! | K72: =IF(Resources!$D$8="Any",1,IF(Resources!$D$8="",1,IF(ISERROR(SEARCH(Resources!$D$8,$G72)),"0",1))) -> 1 | L72: =IF(Resources!$D$9="Any",1,IF(Resources!$D$9="",1,IF($J72=Resources!$D$9,1,"0"))) -> 1 | M72: =IF(Resources!$G$8="Any",1,IF(Resources!$G$8="",1,IF(ISERROR(SEARCH(Resources!$G$8,$H72)),"0",1))) -> 1 | N72: =IF(Resources!$G$9="Any",1,IF(Resources!$G$9="",1,IF(ISERROR(SEARCH(Resources!$G$9,$H72)),"0",1))) -> 1 | O72: =IF(Resources!$G$9="Any",1,IF(Resources!$J$8="",1,IF(ISERROR(SEARCH(Resources!$G$9,INDEX(Validation!$I$2:$I$71,MATCH(Resources!$J$8,Validation!$J$2:$J$71,0)))),1,IF(ISERROR(SEARCH(Resources!$J$8,$I72)),"0",1)))) -> 1 | P72: =IF(AND(K72=1,L72=1,M72=1,N72=1,O72=1),1,"0") -> 1
A73: =IF(P73="0",0,MAX(Data!$A$3:A72)+1) -> 71 | B73: Totaljobs | C73: Milkround School Leavers | D73: https://www.milkround.com/school-leavers/register/ | E73: In Milkround, you can explore possible career options, learn key skills such as CV writing and interview techniques, learn what you need to do in order to qualify for (and succeed in) the jobs you're interested in, and more. | F73: Article; Search Tool | G73: KS4; KS5 | H73: Post-school destination | I73: 0 | J73: Free! | K73: =IF(Resources!$D$8="Any",1,IF(Resources!$D$8="",1,IF(ISERROR(SEARCH(Resources!$D$8,$G73)),"0",1))) -> 1 | L73: =IF(Resources!$D$9="Any",1,IF(Resources!$D$9="",1,IF($J73=Resources!$D$9,1,"0"))) -> 1 | M73: =IF(Resources!$G$8="Any",1,IF(Resources!$G$8="",1,IF(ISERROR(SEARCH(Resources!$G$8,$H73)),"0",1))) -> 1 | N73: =IF(Resources!$G$9="Any",1,IF(Resources!$G$9="",1,IF(ISERROR(SEARCH(Resources!$G$9,$H73)),"0",1))) -> 1 | O73: =IF(Resources!$G$9="Any",1,IF(Resources!$J$8="",1,IF(ISERROR(SEARCH(Resources!$G$9,INDEX(Validation!$I$2:$I$71,MATCH(Resources!$J$8,Validation!$J$2:$J$71,0)))),1,IF(ISERROR(SEARCH(Resources!$J$8,$I73)),"0",1)))) -> 1 | P73: =IF(AND(K73=1,L73=1,M73=1,N73=1,O73=1),1,"0") -> 1
A74: =IF(P74="0",0,MAX(Data!$A$3:A73)+1) -> 72 | B74: Careers and Enterprise Company | C74: My Choices Guide | D74: https://resources.careersandenterprise.co.uk/sites/default/files/2020-08/1377_my_choices_guide-students_final_0_0.pdf | E74: Information about everything to do with your future, such as what to expect on results day, support for jobhunting, further education applications, interview preparation and more! | F74: Article | G74: KS4; KS5 | H74: Post-school destination | I74: 0 | J74: Free! | K74: =IF(Resources!$D$8="Any",1,IF(Resources!$D$8="",1,IF(ISERROR(SEARCH(Resources!$D$8,$G74)),"0",1))) -> 1 | L74: =IF(Resources!$D$9="Any",1,IF(Resources!$D$9="",1,IF($J74=Resources!$D$9,1,"0"))) -> 1 | M74: =IF(Resources!$G$8="Any",1,IF(Resources!$G$8="",1,IF(ISERROR(SEARCH(Resources!$G$8,$H74)),"0",1))) -> 1 | N74: =IF(Resources!$G$9="Any",1,IF(Resources!$G$9="",1,IF(ISERROR(SEARCH(Resources!$G$9,$H74)),"0",1))) -> 1 | O74: =IF(Resources!$G$9="Any",1,IF(Resources!$J$8="",1,IF(ISERROR(SEARCH(Resources!$G$9,INDEX(Validation!$I$2:$I$71,MATCH(Resources!$J$8,Validation!$J$2:$J$71,0)))),1,IF(ISERROR(SEARCH(Resources!$J$8,$I74)),"0",1)))) -> 1 | P74: =IF(AND(K74=1,L74=1,M74=1,N74=1,O74=1),1,"0") -> 1
A75: =IF(P75="0",0,MAX(Data!$A$3:A74)+1) -> 73 | B75: NHS | C75: NHS - Live Well, Eat Well | D75: https://www.nhs.uk/live-well/eat-well/the-eatwell-guide/?tabname=food-and-diet | E75: Learn about what makes a balanced diet, and the most common mistakes people make when choosing what to eat | F75: Article | G75: KS3; KS4; KS5 | H75: Wellbeing | I75: Staying healthy: Lifestyle, diet, and assessing risks; Nutrition | J75: Free! | K75: =IF(Resources!$D$8="Any",1,IF(Resources!$D$8="",1,IF(ISERROR(SEARCH(Resources!$D$8,$G75)),"0",1))) -> 1 | L75: =IF(Resources!$D$9="Any",1,IF(Resources!$D$9="",1,IF($J75=Resources!$D$9,1,"0"))) -> 1 | M75: =IF(Resources!$G$8="Any",1,IF(Resources!$G$8="",1,IF(ISERROR(SEARCH(Resources!$G$8,$H75)),"0",1))) -> 1 | N75: =IF(Resources!$G$9="Any",1,IF(Resources!$G$9="",1,IF(ISERROR(SEARCH(Resources!$G$9,$H75)),"0",1))) -> 1 | O75: =IF(Resources!$G$9="Any",1,IF(Resources!$J$8="",1,IF(ISERROR(SEARCH(Resources!$G$9,INDEX(Validation!$I$2:$I$71,MATCH(Resources!$J$8,Validation!$J$2:$J$71,0)))),1,IF(ISERROR(SEARCH(Resources!$J$8,$I75)),"0",1)))) -> 1 | P75: =IF(AND(K75=1,L75=1,M75=1,N75=1,O75=1),1,"0") -> 1
A76: =IF(P76="0",0,MAX(Data!$A$3:A75)+1) -> 74 | B76: NHS | C76: NHS - The Role of a Social Worker | D76: https://www.healthcareers.nhs.uk/explore-roles/wider-healthcare-team/roles-wider-healthcare-team/clinical-support-staff/social-worker | E76: NHS article on the role of a Social Worker, the entry requirements, and the different paths you could take to become one. | F76: Article; Search Tool | G76: KS4; KS5 | H76: Career Option | I76: Social work and counselling | J76: Free! | K76: =IF(Resources!$D$8="Any",1,IF(Resources!$D$8="",1,IF(ISERROR(SEARCH(Resources!$D$8,$G76)),"0",1))) -> 1 | L76: =IF(Resources!$D$9="Any",1,IF(Resources!$D$9="",1,IF($J76=Resources!$D$9,1,"0"))) -> 1 | M76: =IF(Resources!$G$8="Any",1,IF(Resources!$G$8="",1,IF(ISERROR(SEARCH(Resources!$G$8,$H76)),"0",1))) -> 1 | N76: =IF(Resources!$G$9="Any",1,IF(Resources!$G$9="",1,IF(ISERROR(SEARCH(Resources!$G$9,$H76)),"0",1))) -> 1 | O76: =IF(Resources!$G$9="Any",1,IF(Resources!$J$8="",1,IF(ISERROR(SEARCH(Resources!$G$9,INDEX(Validation!$I$2:$I$71,MATCH(Resources!$J$8,Validation!$J$2:$J$71,0)))),1,IF(ISERROR(SEARCH(Resources!$J$8,$I76)),"0",1)))) -> 1 | P76: =IF(AND(K76=1,L76=1,M76=1,N76=1,O76=1),1,"0") -> 1
A77: =IF(P77="0",0,MAX(Data!$A$3:A76)+1) -> 75 | B77: Prospera Group Ltd | C77: Prospera E-Mentoring | D77: https://prospela.com/ | E77: Online mentoring service covering skills, career advice, and more | F77: Other | G77: KS4; KS5 | H77: Skill; Characteristic | I77: 0 | J77: Free! | K77: =IF(Resources!$D$8="Any",1,IF(Resources!$D$8="",1,IF(ISERROR(SEARCH(Resources!$D$8,$G77)),"0",1))) -> 1 | L77: =IF(Resources!$D$9="Any",1,IF(Resources!$D$9="",1,IF($J77=Resources!$D$9,1,"0"))) -> 1 | M77: =IF(Resources!$G$8="Any",1,IF(Resources!$G$8="",1,IF(ISERROR(SEARCH(Resources!$G$8,$H77)),"0",1))) -> 1 | N77: =IF(Resources!$G$9="Any",1,IF(Resources!$G$9="",1,IF(ISERROR(SEARCH(Resources!$G$9,$H77)),"0",1))) -> 1 | O77: =IF(Resources!$G$9="Any",1,IF(Resources!$J$8="",1,IF(ISERROR(SEARCH(Resources!$G$9,INDEX(Validation!$I$2:$I$71,MATCH(Resources!$J$8,Validation!$J$2:$J$71,0)))),1,IF(ISERROR(SEARCH(Resources!$J$8,$I77)),"0",1)))) -> 1 | P77: =IF(AND(K77=1,L77=1,M77=1,N77=1,O77=1),1,"0") -> 1
A78: =IF(P78="0",0,MAX(Data!$A$3:A77)+1) -> 76 | B78: Not Going to Uni | C78: Not Going to Uni | D78: https://www.notgoingtouni.co.uk/ | E78: If you're considering an apprenticeship, or if you're not sure what you want to do when you finish school, this site is for you. Suggested activity: Go onto the website and search for apprenticeships which you think look interesting. Read up on what they offer and what their requirements are, then talk to a teacher or family member about it. | F78: Article; Search Tool | G78: KS4; KS5 | H78: Post-school destination | I78: Apprenticeship | J78: Free! | K78: =IF(Resources!$D$8="Any",1,IF(Resources!$D$8="",1,IF(ISERROR(SEARCH(Resources!$D$8,$G78)),"0",1))) -> 1 | L78: =IF(Resources!$D$9="Any",1,IF(Resources!$D$9="",1,IF($J78=Resources!$D$9,1,"0"))) -> 1 | M78: =IF(Resources!$G$8="Any",1,IF(Resources!$G$8="",1,IF(ISERROR(SEARCH(Resources!$G$8,$H78)),"0",1))) -> 1 | N78: =IF(Resources!$G$9="Any",1,IF(Resources!$G$9="",1,IF(ISERROR(SEARCH(Resources!$G$9,$H78)),"0",1))) -> 1 | O78: =IF(Resources!$G$9="Any",1,IF(Resources!$J$8="",1,IF(ISERROR(SEARCH(Resources!$G$9,INDEX(Validation!$I$2:$I$71,MATCH(Resources!$J$8,Validation!$J$2:$J$71,0)))),1,IF(ISERROR(SEARCH(Resources!$J$8,$I78)),"0",1)))) -> 1 | P78: =IF(AND(K78=1,L78=1,M78=1,N78=1,O78=1),1,"0") -> 1
A79: =IF(P79="0",0,MAX(Data!$A$3:A78)+1) -> 77 | B79: British Nutrition Foundation | C79: Nutrition.org - Nutrition Information for Teenagers | D79: https://www.nutrition.org.uk/healthyliving/lifestages/teenagers.html?limitstart=0 | E79: Website offering teenager-focused diet advice, including information about weight and diabetes and some top tips for eating healthily | F79: Article | G79: KS4; KS5 | H79: Wellbeing | I79: Staying healthy: Lifestyle, diet, and assessing risks; Nutrition | J79: Free! | K79: =IF(Resources!$D$8="Any",1,IF(Resources!$D$8="",1,IF(ISERROR(SEARCH(Resources!$D$8,$G79)),"0",1))) -> 1 | L79: =IF(Resources!$D$9="Any",1,IF(Resources!$D$9="",1,IF($J79=Resources!$D$9,1,"0"))) -> 1 | M79: =IF(Resources!$G$8="Any",1,IF(Resources!$G$8="",1,IF(ISERROR(SEARCH(Resources!$G$8,$H79)),"0",1))) -> 1 | N79: =IF(Resources!$G$9="Any",1,IF(Resources!$G$9="",1,IF(ISERROR(SEARCH(Resources!$G$9,$H79)),"0",1))) -> 1 | O79: =IF(Resources!$G$9="Any",1,IF(Resources!$J$8="",1,IF(ISERROR(SEARCH(Resources!$G$9,INDEX(Validation!$I$2:$I$71,MATCH(Resources!$J$8,Validation!$J$2:$J$71,0)))),1,IF(ISERROR(SEARCH(Resources!$J$8,$I79)),"0",1)))) -> 1 | P79: =IF(AND(K79=1,L79=1,M79=1,N79=1,O79=1),1,"0") -> 1
A80: =IF(P80="0",0,MAX(Data!$A$3:A79)+1) -> 78 | B80: Anna Freud Centre | C80: Online Chat/Peer Group Support | D80: https://www.annafreud.org/on-my-mind/self-care/online-chat-or-peer-group-support/ | E80: This page explains why talking about things can be valuable, and links to a number of safe, free and reliable resources you can use to find someone to talk to. | F80: Article; Search Tool | G80: KS4; KS5 | H80: Wellbeing; Knowledge | I80: Mental and emotional wellbeing; Someone to talk to; Staying safe | J80: Free! | K80: =IF(Resources!$D$8="Any",1,IF(Resources!$D$8="",1,IF(ISERROR(SEARCH(Resources!$D$8,$G80)),"0",1))) -> 1 | L80: =IF(Resources!$D$9="Any",1,IF(Resources!$D$9="",1,IF($J80=Resources!$D$9,1,"0"))) -> 1 | M80: =IF(Resources!$G$8="Any",1,IF(Resources!$G$8="",1,IF(ISERROR(SEARCH(Resources!$G$8,$H80)),"0",1))) -> 1 | N80: =IF(Resources!$G$9="Any",1,IF(Resources!$G$9="",1,IF(ISERROR(SEARCH(Resources!$G$9,$H80)),"0",1))) -> 1 | O80: =IF(Resources!$G$9="Any",1,IF(Resources!$J$8="",1,IF(ISERROR(SEARCH(Resources!$G$9,INDEX(Validation!$I$2:$I$71,MATCH(Resources!$J$8,Validation!$J$2:$J$71,0)))),1,IF(ISERROR(SEARCH(Resources!$J$8,$I80)),"0",1)))) -> 1 | P80: =IF(AND(K80=1,L80=1,M80=1,N80=1,O80=1),1,"0") -> 1
A81: =IF(P81="0",0,MAX(Data!$A$3:A80)+1) -> 79 | B81: Panjango | C81: Panjango | D81: https://panjango.com/pages/career-paths-quiz | E81: Answer some simple questions about the things you like to do in order to find out what types of careers might suit your personality and skills. | F81: Game/Quiz | G81: KS3; KS4 | H81: Career Option | I81: 0 | J81: Free! | K81: =IF(Resources!$D$8="Any",1,IF(Resources!$D$8="",1,IF(ISERROR(SEARCH(Resources!$D$8,$G81)),"0",1))) -> 1 | L81: =IF(Resources!$D$9="Any",1,IF(Resources!$D$9="",1,IF($J81=Resources!$D$9,1,"0"))) -> 1 | M81: =IF(Resources!$G$8="Any",1,IF(Resources!$G$8="",1,IF(ISERROR(SEARCH(Resources!$G$8,$H81)),"0",1))) -> 1 | N81: =IF(Resources!$G$9="Any",1,IF(Resources!$G$9="",1,IF(ISERROR(SEARCH(Resources!$G$9,$H81)),"0",1))) -> 1 | O81: =IF(Resources!$G$9="Any",1,IF(Resources!$J$8="",1,IF(ISERROR(SEARCH(Resources!$G$9,INDEX(Validation!$I$2:$I$71,MATCH(Resources!$J$8,Validation!$J$2:$J$71,0)))),1,IF(ISERROR(SEARCH(Resources!$J$8,$I81)),"0",1)))) -> 1 | P81: =IF(AND(K81=1,L81=1,M81=1,N81=1,O81=1),1,"0") -> 1
A82: =IF(P82="0",0,MAX(Data!$A$3:A81)+1) -> 80 | B82: AccessEd | C82: Reach Uni | D82: https://www.access-ed.ngo/reachuni | E82: Reach Uni is a 3-step course during which you will explore your options at university, stretch your skills and experiences, and learn how to apply | F82: Online Course; Video; Article | G82: KS5 | H82: Post-school destination | I82: University | J82: Free! | K82: =IF(Resources!$D$8="Any",1,IF(Resources!$D$8="",1,IF(ISERROR(SEARCH(Resources!$D$8,$G82)),"0",1))) -> 1 | L82: =IF(Resources!$D$9="Any",1,IF(Resources!$D$9="",1,IF($J82=Resources!$D$9,1,"0"))) -> 1 | M82: =IF(Resources!$G$8="Any",1,IF(Resources!$G$8="",1,IF(ISERROR(SEARCH(Resources!$G$8,$H82)),"0",1))) -> 1 | N82: =IF(Resources!$G$9="Any",1,IF(Resources!$G$9="",1,IF(ISERROR(SEARCH(Resources!$G$9,$H82)),"0",1))) -> 1 | O82: =IF(Resources!$G$9="Any",1,IF(Resources!$J$8="",1,IF(ISERROR(SEARCH(Resources!$G$9,INDEX(Validation!$I$2:$I$71,MATCH(Resources!$J$8,Validation!$J$2:$J$71,0)))),1,IF(ISERROR(SEARCH(Resources!$J$8,$I82)),"0",1)))) -> 1 | P82: =IF(AND(K82=1,L82=1,M82=1,N82=1,O82=1),1,"0") -> 1
A83: =IF(P83="0",0,MAX(Data!$A$3:A82)+1) -> 81 | B83: MeeTwo Education Ltd | C83: Meetwo | D83: https://www.meetwo.co.uk/ | E83: App where you can post questions - and share solutions - on wellbeing topics. Meetwo is unique because you can share how you feel in both words and pictures | F83: Other | G83: KS4; KS5 | H83: Characteristic; Skill; Knowledge; Wellbeing | I83: Mental and emotional wellbeing; Self-awareness; Communication; Openness and tolerance; Kindness and compassion; Calmness; Creativity | J83: Free! | K83: =IF(Resources!$D$8="Any",1,IF(Resources!$D$8="",1,IF(ISERROR(SEARCH(Resources!$D$8,$G83)),"0",1))) -> 1 | L83: =IF(Resources!$D$9="Any",1,IF(Resources!$D$9="",1,IF($J83=Resources!$D$9,1,"0"))) -> 1 | M83: =IF(Resources!$G$8="Any",1,IF(Resources!$G$8="",1,IF(ISERROR(SEARCH(Resources!$G$8,$H83)),"0",1))) -> 1 | N83: =IF(Resources!$G$9="Any",1,IF(Resources!$G$9="",1,IF(ISERROR(SEARCH(Resources!$G$9,$H83)),"0",1))) -> 1 | O83: =IF(Resources!$G$9="Any",1,IF(Resources!$J$8="",1,IF(ISERROR(SEARCH(Resources!$G$9,INDEX(Validation!$I$2:$I$71,MATCH(Resources!$J$8,Validation!$J$2:$J$71,0)))),1,IF(ISERROR(SEARCH(Resources!$J$8,$I83)),"0",1)))) -> 1 | P83: =IF(AND(K83=1,L83=1,M83=1,N83=1,O83=1),1,"0") -> 1
...

Sheet Validation
A1: Key Stages | C1: Resource Type | E1: Cost | G1: Development Area | I1: Focus Area Type | J1: Focus Area Name | O1: Any
A2: Any | C2: Any | E2: Any | G2: Any | I2: Career option | J2: Animal care | K2: =IF(Resources!$G$9=$I2,1,0) -> 0 | N2: 1 | O2: =IFERROR(INDEX($J$2:$J$71,MATCH(N2,$K$2:$K$71,0)),"")
A3: KS2 | C3: Article | E3: Free! | G3: Career option | I3: Career option | J3: Charity and voluntary work | K3: =IF(Resources!$G$9=Validation!$I3,MAX(Validation!$K$2:K2)+1,0) -> 0 | N3: 2 | O3: =IFERROR(INDEX($J$2:$J$71,MATCH(N3,$K$2:$K$71,0)),"")
A4: KS3 | C4: Audio | E4: Free (Premium Option) | G4: Characteristic | I4: Career option | J4: Computing and Technology | K4: =IF(Resources!$G$9=Validation!$I4,MAX(Validation!$K$2:K3)+1,0) -> 0 | N4: 3 | O4: =IFERROR(INDEX($J$2:$J$71,MATCH(N4,$K$2:$K$71,0)),"")
A5: KS4 | C5: Community | E5: Free Trial | G5: Knowledge | I5: Career option | J5: Creative arts, design and fashion | K5: =IF(Resources!$G$9=Validation!$I5,MAX(Validation!$K$2:K4)+1,0) -> 0 | N5: 4 | O5: =IFERROR(INDEX($J$2:$J$71,MATCH(N5,$K$2:$K$71,0)),"")
A6: KS5 | C6: Game/Quiz | E6: One-off Payment | G6: Post-school destination | I6: Career option | J6: Engineering and manufacturing | K6: =IF(Resources!$G$9=Validation!$I6,MAX(Validation!$K$2:K5)+1,0) -> 0 | N6: 5 | O6: =IFERROR(INDEX($J$2:$J$71,MATCH(N6,$K$2:$K$71,0)),"")
